Package: DEGreport Version: 1.42.0 Command: /Library/Frameworks/R.framework/Resources/bin/R CMD check --install=check:DEGreport.install-out.txt --library=/Library/Frameworks/R.framework/Resources/library --no-vignettes --timings DEGreport_1.42.0.tar.gz StartedAt: 2025-02-04 02:28:03 -0500 (Tue, 04 Feb 2025) EndedAt: 2025-02-04 02:41:23 -0500 (Tue, 04 Feb 2025) EllapsedTime: 800.0 seconds RetCode: 0 Status: OK CheckDir: DEGreport.Rcheck Warnings: 0