Package: DEGreport Version: 1.42.0 Command: /home/biocbuild/bbs-3.20-bioc/R/bin/R CMD build --keep-empty-dirs --no-resave-data --md5 DEGreport StartedAt: 2025-02-03 17:07:37 -0500 (Mon, 03 Feb 2025) EndedAt: 2025-02-03 17:08:42 -0500 (Mon, 03 Feb 2025) EllapsedTime: 64.1 seconds RetCode: 0 Status: OK PackageFile: DEGreport_1.42.0.tar.gz PackageFileSize: 19.57 MiB