Package: DEGreport Version: 1.42.0 Command: /home/biocbuild/R/R/bin/R CMD build --keep-empty-dirs --no-resave-data DEGreport StartedAt: 2025-02-03 23:05:33 -0000 (Mon, 03 Feb 2025) EndedAt: 2025-02-03 23:07:06 -0000 (Mon, 03 Feb 2025) EllapsedTime: 93.0 seconds RetCode: 0 Status: OK PackageFile: DEGreport_1.42.0.tar.gz PackageFileSize: 18.85 MiB