Package: DEGreport Version: 1.42.0 Command: /home/biocbuild/R/R/bin/R CMD INSTALL DEGreport StartedAt: 2025-02-03 20:50:29 -0000 (Mon, 03 Feb 2025) EndedAt: 2025-02-03 20:51:07 -0000 (Mon, 03 Feb 2025) EllapsedTime: 37.5 seconds RetCode: 0 Status: OK