Package: DEGseq Version: 1.60.0 Command: /Library/Frameworks/R.framework/Resources/bin/R CMD build --keep-empty-dirs --no-resave-data DEGseq StartedAt: 2025-02-10 18:18:10 -0500 (Mon, 10 Feb 2025) EndedAt: 2025-02-10 18:19:08 -0500 (Mon, 10 Feb 2025) EllapsedTime: 57.4 seconds RetCode: 0 Status: OK PackageFile: DEGseq_1.60.0.tar.gz PackageFileSize: 1.962 MiB