Package: DEGseq Version: 1.60.0 Command: /home/biocbuild/bbs-3.20-bioc/R/bin/R CMD build --keep-empty-dirs --no-resave-data --md5 DEGseq StartedAt: 2025-02-10 17:00:40 -0500 (Mon, 10 Feb 2025) EndedAt: 2025-02-10 17:01:00 -0500 (Mon, 10 Feb 2025) EllapsedTime: 20.0 seconds RetCode: 0 Status: OK PackageFile: DEGseq_1.60.0.tar.gz PackageFileSize: 1.963 MiB