Package: DEGseq Version: 1.60.0 Command: /home/biocbuild/bbs-3.20-bioc/R/bin/R CMD check --install=check:DEGseq.install-out.txt --library=/home/biocbuild/bbs-3.20-bioc/R/site-library --timings DEGseq_1.60.0.tar.gz StartedAt: 2025-02-10 21:32:02 -0500 (Mon, 10 Feb 2025) EndedAt: 2025-02-10 21:32:38 -0500 (Mon, 10 Feb 2025) EllapsedTime: 36.0 seconds RetCode: 0 Status: WARNINGS CheckDir: DEGseq.Rcheck Warnings: 1