Package: DELocal Version: 1.6.0 Command: rm -rf DELocal.buildbin-libdir && mkdir DELocal.buildbin-libdir && /Users/biocbuild/BBS/utils/build-universal.sh DELocal_1.6.0.tar.gz /Library/Frameworks/R.framework/Resources/bin/R DELocal.buildbin-libdir StartedAt: 2025-02-01 14:37:42 -0500 (Sat, 01 Feb 2025) EndedAt: 2025-02-01 14:38:16 -0500 (Sat, 01 Feb 2025) EllapsedTime: 33.8 seconds RetCode: 0 Status: OK PackageFile: DELocal_1.6.0.tgz PackageFileSize: 2.374 MiB