Package: DELocal Version: 1.6.0 Command: /Library/Frameworks/R.framework/Resources/bin/R CMD build --keep-empty-dirs --no-resave-data DELocal StartedAt: 2025-02-03 22:16:33 -0500 (Mon, 03 Feb 2025) EndedAt: 2025-02-03 22:18:00 -0500 (Mon, 03 Feb 2025) EllapsedTime: 86.5 seconds RetCode: 0 Status: OK PackageFile: DELocal_1.6.0.tar.gz PackageFileSize: 2.334 MiB