Package: DELocal Version: 1.6.0 Command: /Library/Frameworks/R.framework/Resources/bin/R CMD build --keep-empty-dirs --no-resave-data DELocal StartedAt: 2025-01-30 18:30:47 -0500 (Thu, 30 Jan 2025) EndedAt: 2025-01-30 18:33:49 -0500 (Thu, 30 Jan 2025) EllapsedTime: 183.0 seconds RetCode: 0 Status: OK PackageFile: DELocal_1.6.0.tar.gz PackageFileSize: 2.334 MiB