Package: DELocal Version: 1.6.0 Command: /Library/Frameworks/R.framework/Resources/bin/R CMD INSTALL DELocal StartedAt: 2025-01-30 15:36:53 -0500 (Thu, 30 Jan 2025) EndedAt: 2025-01-30 15:37:52 -0500 (Thu, 30 Jan 2025) EllapsedTime: 58.7 seconds RetCode: 0 Status: OK