Package: DELocal Version: 1.6.0 Command: chmod a+r DELocal -R && F:\biocbuild\bbs-3.20-bioc\R\bin\R.exe CMD build --keep-empty-dirs --no-resave-data DELocal StartedAt: 2025-01-30 18:22:12 -0500 (Thu, 30 Jan 2025) EndedAt: 2025-01-30 18:23:42 -0500 (Thu, 30 Jan 2025) EllapsedTime: 90.7 seconds RetCode: 0 Status: OK PackageFile: DELocal_1.6.0.tar.gz PackageFileSize: 2.299 MiB