Package: DEScan2 Version: 1.26.0 Command: rm -rf DEScan2.buildbin-libdir && mkdir DEScan2.buildbin-libdir && /Users/biocbuild/BBS/utils/build-universal.sh DEScan2_1.26.0.tar.gz /Library/Frameworks/R.framework/Resources/bin/R DEScan2.buildbin-libdir StartedAt: 2025-02-05 15:34:33 -0500 (Wed, 05 Feb 2025) EndedAt: 2025-02-05 15:35:43 -0500 (Wed, 05 Feb 2025) EllapsedTime: 69.8 seconds RetCode: 0 Status: OK PackageFile: DEScan2_1.26.0.tgz PackageFileSize: 2.598 MiB