Package: DEScan2 Version: 1.26.0 Command: /Library/Frameworks/R.framework/Resources/bin/R CMD INSTALL DEScan2 StartedAt: 2025-02-03 16:29:34 -0500 (Mon, 03 Feb 2025) EndedAt: 2025-02-03 16:31:31 -0500 (Mon, 03 Feb 2025) EllapsedTime: 117.3 seconds RetCode: 0 Status: OK