Package: DEScan2 Version: 1.26.0 Command: /home/biocbuild/bbs-3.20-bioc/R/bin/R CMD build --keep-empty-dirs --no-resave-data --md5 DEScan2 StartedAt: 2025-02-03 17:10:34 -0500 (Mon, 03 Feb 2025) EndedAt: 2025-02-03 17:12:04 -0500 (Mon, 03 Feb 2025) EllapsedTime: 90.1 seconds RetCode: 0 Status: OK PackageFile: DEScan2_1.26.0.tar.gz PackageFileSize: 2.485 MiB