Package: DEScan2 Version: 1.26.0 Command: F:\biocbuild\bbs-3.20-bioc\R\bin\R.exe CMD check --no-multiarch --install=check:DEScan2.install-out.txt --library=F:\biocbuild\bbs-3.20-bioc\R\library --no-vignettes --timings DEScan2_1.26.0.tar.gz StartedAt: 2025-02-11 01:03:41 -0500 (Tue, 11 Feb 2025) EndedAt: 2025-02-11 01:14:28 -0500 (Tue, 11 Feb 2025) EllapsedTime: 647.8 seconds RetCode: 0 Status: WARNINGS CheckDir: DEScan2.Rcheck Warnings: 2