Package: DESeq2 Version: 1.46.0 Command: /Library/Frameworks/R.framework/Resources/bin/R CMD check --install=check:DESeq2.install-out.txt --library=/Library/Frameworks/R.framework/Resources/library --no-vignettes --timings DESeq2_1.46.0.tar.gz StartedAt: 2025-02-04 17:52:32 -0500 (Tue, 04 Feb 2025) EndedAt: 2025-02-04 17:59:37 -0500 (Tue, 04 Feb 2025) EllapsedTime: 425.5 seconds RetCode: 0 Status: OK CheckDir: DESeq2.Rcheck Warnings: 0