Package: DESeq2 Version: 1.46.0 Command: rm -rf DESeq2.buildbin-libdir && mkdir DESeq2.buildbin-libdir && /Users/biocbuild/BBS/utils/build-universal.sh DESeq2_1.46.0.tar.gz /Library/Frameworks/R.framework/Resources/bin/R DESeq2.buildbin-libdir StartedAt: 2025-02-04 12:49:20 -0500 (Tue, 04 Feb 2025) EndedAt: 2025-02-04 12:51:06 -0500 (Tue, 04 Feb 2025) EllapsedTime: 106.1 seconds RetCode: 0 Status: OK PackageFile: DESeq2_1.46.0.tgz PackageFileSize: 3.923 MiB