Package: DESeq2 Version: 1.46.0 Command: /Library/Frameworks/R.framework/Resources/bin/R CMD build --keep-empty-dirs --no-resave-data DESeq2 StartedAt: 2025-02-03 18:28:19 -0500 (Mon, 03 Feb 2025) EndedAt: 2025-02-03 18:32:59 -0500 (Mon, 03 Feb 2025) EllapsedTime: 280.7 seconds RetCode: 0 Status: OK PackageFile: DESeq2_1.46.0.tar.gz PackageFileSize: 3.298 MiB