Package: DESeq2 Version: 1.46.0 Command: rm -rf DESeq2.buildbin-libdir && mkdir DESeq2.buildbin-libdir && F:\biocbuild\bbs-3.20-bioc\R\bin\R.exe CMD INSTALL --build --library=DESeq2.buildbin-libdir DESeq2_1.46.0.tar.gz StartedAt: 2025-02-04 08:22:10 -0500 (Tue, 04 Feb 2025) EndedAt: 2025-02-04 08:23:31 -0500 (Tue, 04 Feb 2025) EllapsedTime: 81.2 seconds RetCode: 0 Status: OK PackageFile: DESeq2_1.46.0.zip PackageFileSize: 2.278 MiB