Package: DESeq2 Version: 1.46.0 Command: chmod a+r DESeq2 -R && F:\biocbuild\bbs-3.20-bioc\R\bin\R.exe CMD build --keep-empty-dirs --no-resave-data DESeq2 StartedAt: 2025-02-03 18:39:32 -0500 (Mon, 03 Feb 2025) EndedAt: 2025-02-03 18:42:35 -0500 (Mon, 03 Feb 2025) EllapsedTime: 183.2 seconds RetCode: 0 Status: OK PackageFile: DESeq2_1.46.0.tar.gz PackageFileSize: 1.373 MiB