Package: DESeq2 Version: 1.46.0 Command: F:\biocbuild\bbs-3.20-bioc\R\bin\R.exe CMD check --no-multiarch --install=check:DESeq2.install-out.txt --library=F:\biocbuild\bbs-3.20-bioc\R\library --no-vignettes --timings DESeq2_1.46.0.tar.gz StartedAt: 2025-02-04 01:09:59 -0500 (Tue, 04 Feb 2025) EndedAt: 2025-02-04 01:18:25 -0500 (Tue, 04 Feb 2025) EllapsedTime: 505.8 seconds RetCode: 0 Status: OK CheckDir: DESeq2.Rcheck Warnings: 0