Package: DESeq2 Version: 1.46.0 Command: /home/biocbuild/R/R/bin/R CMD build --keep-empty-dirs --no-resave-data DESeq2 StartedAt: 2025-01-30 23:09:05 -0000 (Thu, 30 Jan 2025) EndedAt: 2025-01-30 23:11:46 -0000 (Thu, 30 Jan 2025) EllapsedTime: 161.1 seconds RetCode: 0 Status: OK PackageFile: DESeq2_1.46.0.tar.gz PackageFileSize: 1.557 MiB