Package: DESeq2 Version: 1.46.0 Command: /home/biocbuild/R/R/bin/R CMD check --install=check:DESeq2.install-out.txt --library=/home/biocbuild/R/R/site-library --no-vignettes --timings DESeq2_1.46.0.tar.gz StartedAt: 2025-02-04 06:23:53 -0000 (Tue, 04 Feb 2025) EndedAt: 2025-02-04 06:32:21 -0000 (Tue, 04 Feb 2025) EllapsedTime: 508.6 seconds RetCode: 0 Status: OK CheckDir: DESeq2.Rcheck Warnings: 0