Package: DESeq2 Version: 1.46.0 Command: /home/biocbuild/R/R/bin/R CMD INSTALL DESeq2 StartedAt: 2025-02-03 20:36:53 -0000 (Mon, 03 Feb 2025) EndedAt: 2025-02-03 20:37:58 -0000 (Mon, 03 Feb 2025) EllapsedTime: 65.1 seconds RetCode: 0 Status: OK