Package: DEXSeq Version: 1.52.0 Command: /Library/Frameworks/R.framework/Resources/bin/R CMD build --keep-empty-dirs --no-resave-data DEXSeq StartedAt: 2025-02-03 22:31:08 -0500 (Mon, 03 Feb 2025) EndedAt: 2025-02-03 22:33:22 -0500 (Mon, 03 Feb 2025) EllapsedTime: 134.1 seconds RetCode: 0 Status: OK PackageFile: DEXSeq_1.52.0.tar.gz PackageFileSize: 1.789 MiB