Package: DEXSeq Version: 1.52.0 Command: /Library/Frameworks/R.framework/Resources/bin/R CMD INSTALL DEXSeq StartedAt: 2025-02-10 17:39:20 -0500 (Mon, 10 Feb 2025) EndedAt: 2025-02-10 17:40:04 -0500 (Mon, 10 Feb 2025) EllapsedTime: 43.4 seconds RetCode: 0 Status: OK