Package: DEXSeq Version: 1.52.0 Command: rm -rf DEXSeq.buildbin-libdir && mkdir DEXSeq.buildbin-libdir && /Users/biocbuild/BBS/utils/build-universal.sh DEXSeq_1.52.0.tar.gz /Library/Frameworks/R.framework/Resources/bin/R DEXSeq.buildbin-libdir StartedAt: 2025-02-04 12:49:38 -0500 (Tue, 04 Feb 2025) EndedAt: 2025-02-04 12:51:00 -0500 (Tue, 04 Feb 2025) EllapsedTime: 81.4 seconds RetCode: 0 Status: OK PackageFile: DEXSeq_1.52.0.tgz PackageFileSize: 2.204 MiB