Package: DEXSeq Version: 1.52.0 Command: /Library/Frameworks/R.framework/Resources/bin/R CMD build --keep-empty-dirs --no-resave-data DEXSeq StartedAt: 2025-02-10 18:25:42 -0500 (Mon, 10 Feb 2025) EndedAt: 2025-02-10 18:30:07 -0500 (Mon, 10 Feb 2025) EllapsedTime: 265.3 seconds RetCode: 0 Status: OK PackageFile: DEXSeq_1.52.0.tar.gz PackageFileSize: 1.779 MiB