Package: DEXSeq Version: 1.52.0 Command: /Library/Frameworks/R.framework/Resources/bin/R CMD check --install=check:DEXSeq.install-out.txt --library=/Library/Frameworks/R.framework/Resources/library --no-vignettes --timings DEXSeq_1.52.0.tar.gz StartedAt: 2025-02-04 02:43:23 -0500 (Tue, 04 Feb 2025) EndedAt: 2025-02-04 02:55:57 -0500 (Tue, 04 Feb 2025) EllapsedTime: 753.8 seconds RetCode: 0 Status: OK CheckDir: DEXSeq.Rcheck Warnings: 0