Package: DEXSeq Version: 1.52.0 Command: /Library/Frameworks/R.framework/Resources/bin/R CMD INSTALL DEXSeq StartedAt: 2025-02-10 16:20:38 -0500 (Mon, 10 Feb 2025) EndedAt: 2025-02-10 16:21:55 -0500 (Mon, 10 Feb 2025) EllapsedTime: 77.3 seconds RetCode: 0 Status: OK