Package: DEXSeq Version: 1.52.0 Command: /home/biocbuild/bbs-3.20-bioc/R/bin/R CMD check --install=check:DEXSeq.install-out.txt --library=/home/biocbuild/bbs-3.20-bioc/R/site-library --timings DEXSeq_1.52.0.tar.gz StartedAt: 2025-02-03 21:48:24 -0500 (Mon, 03 Feb 2025) EndedAt: 2025-02-03 21:54:29 -0500 (Mon, 03 Feb 2025) EllapsedTime: 364.3 seconds RetCode: 0 Status: OK CheckDir: DEXSeq.Rcheck Warnings: 0