Package: DEXSeq Version: 1.52.0 Command: F:\biocbuild\bbs-3.20-bioc\R\bin\R.exe CMD INSTALL DEXSeq StartedAt: 2025-02-03 17:01:18 -0500 (Mon, 03 Feb 2025) EndedAt: 2025-02-03 17:02:07 -0500 (Mon, 03 Feb 2025) EllapsedTime: 49.5 seconds RetCode: 0 Status: OK