Package: DEXSeq Version: 1.52.0 Command: /home/biocbuild/R/R/bin/R CMD build --keep-empty-dirs --no-resave-data DEXSeq StartedAt: 2025-02-03 23:10:51 -0000 (Mon, 03 Feb 2025) EndedAt: 2025-02-03 23:13:16 -0000 (Mon, 03 Feb 2025) EllapsedTime: 145.0 seconds RetCode: 0 Status: OK PackageFile: DEXSeq_1.52.0.tar.gz PackageFileSize: 897.9 KiB