Package: DEXSeq Version: 1.52.0 Command: /home/biocbuild/R/R/bin/R CMD check --install=check:DEXSeq.install-out.txt --library=/home/biocbuild/R/R/site-library --no-vignettes --timings DEXSeq_1.52.0.tar.gz StartedAt: 2025-02-04 06:24:07 -0000 (Tue, 04 Feb 2025) EndedAt: 2025-02-04 06:30:25 -0000 (Tue, 04 Feb 2025) EllapsedTime: 378.4 seconds RetCode: 0 Status: OK CheckDir: DEXSeq.Rcheck Warnings: 0