Package: DEqMS Version: 1.24.0 Command: /Library/Frameworks/R.framework/Resources/bin/R CMD INSTALL DEqMS StartedAt: 2025-02-10 15:40:31 -0500 (Mon, 10 Feb 2025) EndedAt: 2025-02-10 15:40:38 -0500 (Mon, 10 Feb 2025) EllapsedTime: 6.3 seconds RetCode: 0 Status: OK