Package: DEsingle Version: 1.26.0 Command: rm -rf DEsingle.buildbin-libdir && mkdir DEsingle.buildbin-libdir && /Users/biocbuild/BBS/utils/build-universal.sh DEsingle_1.26.0.tar.gz /Library/Frameworks/R.framework/Resources/bin/R DEsingle.buildbin-libdir StartedAt: 2025-02-05 15:34:55 -0500 (Wed, 05 Feb 2025) EndedAt: 2025-02-05 15:35:06 -0500 (Wed, 05 Feb 2025) EllapsedTime: 11.1 seconds RetCode: 0 Status: OK PackageFile: DEsingle_1.26.0.tgz PackageFileSize: 392.5 KiB