Package: DEsingle Version: 1.26.0 Command: rm -rf DEsingle.buildbin-libdir && mkdir DEsingle.buildbin-libdir && F:\biocbuild\bbs-3.20-bioc\R\bin\R.exe CMD INSTALL --build --library=DEsingle.buildbin-libdir DEsingle_1.26.0.tar.gz StartedAt: 2025-02-11 08:19:56 -0500 (Tue, 11 Feb 2025) EndedAt: 2025-02-11 08:20:07 -0500 (Tue, 11 Feb 2025) EllapsedTime: 11.0 seconds RetCode: 0 Status: OK PackageFile: DEsingle_1.26.0.zip PackageFileSize: 398.1 KiB