Package: DEsingle Version: 1.26.0 Command: F:\biocbuild\bbs-3.20-bioc\R\bin\R.exe CMD check --no-multiarch --install=check:DEsingle.install-out.txt --library=F:\biocbuild\bbs-3.20-bioc\R\library --no-vignettes --timings DEsingle_1.26.0.tar.gz StartedAt: 2025-02-11 01:05:03 -0500 (Tue, 11 Feb 2025) EndedAt: 2025-02-11 01:09:10 -0500 (Tue, 11 Feb 2025) EllapsedTime: 247.0 seconds RetCode: 0 Status: OK CheckDir: DEsingle.Rcheck Warnings: 0