Package: DEsingle Version: 1.26.0 Command: /home/biocbuild/R/R/bin/R CMD check --install=check:DEsingle.install-out.txt --library=/home/biocbuild/R/R/site-library --no-vignettes --timings DEsingle_1.26.0.tar.gz StartedAt: 2025-02-11 05:36:19 -0000 (Tue, 11 Feb 2025) EndedAt: 2025-02-11 05:40:07 -0000 (Tue, 11 Feb 2025) EllapsedTime: 228.2 seconds RetCode: 0 Status: OK CheckDir: DEsingle.Rcheck Warnings: 0