Package: DEsubs Version: 1.32.0 Command: rm -rf DEsubs.buildbin-libdir && mkdir DEsubs.buildbin-libdir && /Users/biocbuild/BBS/utils/build-universal.sh DEsubs_1.32.0.tar.gz /Library/Frameworks/R.framework/Resources/bin/R DEsubs.buildbin-libdir StartedAt: 2025-02-05 15:35:12 -0500 (Wed, 05 Feb 2025) EndedAt: 2025-02-05 15:35:47 -0500 (Wed, 05 Feb 2025) EllapsedTime: 35.1 seconds RetCode: 0 Status: OK PackageFile: DEsubs_1.32.0.tgz PackageFileSize: 3.744 MiB