Package: DEsubs Version: 1.32.0 Command: /Library/Frameworks/R.framework/Resources/bin/R CMD check --install=check:DEsubs.install-out.txt --library=/Library/Frameworks/R.framework/Resources/library --no-vignettes --timings DEsubs_1.32.0.tar.gz StartedAt: 2025-02-11 02:31:16 -0500 (Tue, 11 Feb 2025) EndedAt: 2025-02-11 02:39:01 -0500 (Tue, 11 Feb 2025) EllapsedTime: 464.9 seconds RetCode: 0 Status: WARNINGS CheckDir: DEsubs.Rcheck Warnings: 1