Package: DEsubs Version: 1.32.0 Command: /home/biocbuild/bbs-3.20-bioc/R/bin/R CMD build --keep-empty-dirs --no-resave-data --md5 DEsubs StartedAt: 2025-02-03 17:10:48 -0500 (Mon, 03 Feb 2025) EndedAt: 2025-02-03 17:11:48 -0500 (Mon, 03 Feb 2025) EllapsedTime: 60.0 seconds RetCode: 0 Status: OK PackageFile: DEsubs_1.32.0.tar.gz PackageFileSize: 3.972 MiB