Package: DEsubs Version: 1.32.0 Command: /home/biocbuild/bbs-3.20-bioc/R/bin/R CMD check --install=check:DEsubs.install-out.txt --library=/home/biocbuild/bbs-3.20-bioc/R/site-library --timings DEsubs_1.32.0.tar.gz StartedAt: 2025-02-10 21:40:02 -0500 (Mon, 10 Feb 2025) EndedAt: 2025-02-10 21:43:42 -0500 (Mon, 10 Feb 2025) EllapsedTime: 220.2 seconds RetCode: 0 Status: WARNINGS CheckDir: DEsubs.Rcheck Warnings: 1