Package: DEsubs Version: 1.32.0 Command: /home/biocbuild/bbs-3.20-bioc/R/bin/R CMD INSTALL DEsubs StartedAt: 2025-02-10 15:44:59 -0500 (Mon, 10 Feb 2025) EndedAt: 2025-02-10 15:45:25 -0500 (Mon, 10 Feb 2025) EllapsedTime: 25.9 seconds RetCode: 0 Status: OK