Package: DEsubs Version: 1.32.0 Command: rm -rf DEsubs.buildbin-libdir && mkdir DEsubs.buildbin-libdir && F:\biocbuild\bbs-3.20-bioc\R\bin\R.exe CMD INSTALL --build --library=DEsubs.buildbin-libdir DEsubs_1.32.0.tar.gz StartedAt: 2025-02-04 08:22:23 -0500 (Tue, 04 Feb 2025) EndedAt: 2025-02-04 08:23:03 -0500 (Tue, 04 Feb 2025) EllapsedTime: 40.5 seconds RetCode: 0 Status: OK PackageFile: DEsubs_1.32.0.zip PackageFileSize: 3.752 MiB