Package: DEsubs Version: 1.32.0 Command: F:\biocbuild\bbs-3.20-bioc\R\bin\R.exe CMD INSTALL DEsubs StartedAt: 2025-02-03 16:26:24 -0500 (Mon, 03 Feb 2025) EndedAt: 2025-02-03 16:27:06 -0500 (Mon, 03 Feb 2025) EllapsedTime: 42.4 seconds RetCode: 0 Status: OK