Package: DEsubs Version: 1.32.0 Command: /home/biocbuild/R/R/bin/R CMD build --keep-empty-dirs --no-resave-data DEsubs StartedAt: 2025-02-03 23:10:32 -0000 (Mon, 03 Feb 2025) EndedAt: 2025-02-03 23:10:33 -0000 (Mon, 03 Feb 2025) EllapsedTime: 1.0 seconds RetCode: 1 Status: ERROR PackageFile: None PackageFileSize: NA