Package: DFP Version: 1.64.0 Command: /home/biocbuild/bbs-3.20-bioc/R/bin/R CMD build --keep-empty-dirs --no-resave-data --md5 DFP StartedAt: 2025-02-03 17:11:21 -0500 (Mon, 03 Feb 2025) EndedAt: 2025-02-03 17:11:30 -0500 (Mon, 03 Feb 2025) EllapsedTime: 9.0 seconds RetCode: 0 Status: OK PackageFile: DFP_1.64.0.tar.gz PackageFileSize: 498.1 KiB