Package: DFP Version: 1.64.0 Command: /home/biocbuild/bbs-3.20-bioc/R/bin/R CMD check --install=check:DFP.install-out.txt --library=/home/biocbuild/bbs-3.20-bioc/R/site-library --timings DFP_1.64.0.tar.gz StartedAt: 2025-02-03 21:49:06 -0500 (Mon, 03 Feb 2025) EndedAt: 2025-02-03 21:49:37 -0500 (Mon, 03 Feb 2025) EllapsedTime: 31.0 seconds RetCode: 0 Status: OK CheckDir: DFP.Rcheck Warnings: 0